BEGIN:VCALENDAR
VERSION:2.0
PRODID:-//Middle East Children&#039;s Alliance - ECPv6.15.20//NONSGML v1.0//EN
CALSCALE:GREGORIAN
METHOD:PUBLISH
X-WR-CALNAME:Middle East Children&#039;s Alliance
X-ORIGINAL-URL:https://www.mecaforpeace.org
X-WR-CALDESC:Events for Middle East Children&#039;s Alliance
REFRESH-INTERVAL;VALUE=DURATION:PT1H
X-Robots-Tag:noindex
X-PUBLISHED-TTL:PT1H
BEGIN:VTIMEZONE
TZID:America/Los_Angeles
BEGIN:DAYLIGHT
TZOFFSETFROM:-0800
TZOFFSETTO:-0700
TZNAME:PDT
DTSTART:20240310T100000
END:DAYLIGHT
BEGIN:STANDARD
TZOFFSETFROM:-0700
TZOFFSETTO:-0800
TZNAME:PST
DTSTART:20241103T090000
END:STANDARD
BEGIN:DAYLIGHT
TZOFFSETFROM:-0800
TZOFFSETTO:-0700
TZNAME:PDT
DTSTART:20250309T100000
END:DAYLIGHT
BEGIN:STANDARD
TZOFFSETFROM:-0700
TZOFFSETTO:-0800
TZNAME:PST
DTSTART:20251102T090000
END:STANDARD
BEGIN:DAYLIGHT
TZOFFSETFROM:-0800
TZOFFSETTO:-0700
TZNAME:PDT
DTSTART:20260308T100000
END:DAYLIGHT
BEGIN:STANDARD
TZOFFSETFROM:-0700
TZOFFSETTO:-0800
TZNAME:PST
DTSTART:20261101T090000
END:STANDARD
END:VTIMEZONE
BEGIN:VEVENT
DTSTART;TZID=America/Los_Angeles:20251015T183000
DTEND;TZID=America/Los_Angeles:20251015T203000
DTSTAMP:20260422T051226
CREATED:20250915T164741Z
LAST-MODIFIED:20250915T164741Z
UID:22576-1760553000-1760560200@www.mecaforpeace.org
SUMMARY:Berkeley: Terms of Servitude
DESCRIPTION:Terms of Servitude: Big Tech’s Rise in Silencing Palestinian Voices and Advancing Genocide\nWednesday\, October 15\, 2025\, 6:30 pm\nMiddle East Children’s Alliance\, 1101 8th Street\, Berkeley\, CA 84710\nEvent is free but please RSVP\nJoin MECA in welcoming Omar Zahzah to discuss his new book\, Terms of Servitude: Zionism\, Silicon Valley\, and Digital Settler/Colonialism in the Palestine Liberation Struggle. \nZahzah illustrates how big tech has leveraged massive power to spread propaganda\, silence criticism of Israel\, and smear dissenters. Zahzah calls this “digital settler colonialism” and shows how it operates in both subtle and overt ways—from shadow banning to blacklisting to paid trolling—across platforms. He also profiles the creative Palestinian activists\, artists\, and journalists who are outwitting the seemingly all-powerful tech titans and getting their message out despite the massive forces arrayed against them. \nOMAR ZAHZAH is a writer\, poet\, organizer of Lebanese Palestinian descent\, and Assistant Professor of Arab and Muslim Ethnicities and Diasporas (AMED) Studies at San Francisco State University. Omar has covered digital repression in relation to Palestine as a freelance journalist since May 2021\, with work appearing in such outlets as Al Jazeera\, Middle East Eye\, Electronic Intifada\, Mondoweiss\, CounterPunch.
URL:https://www.mecaforpeace.org/event/berkeley-terms-of-servitude/
LOCATION:Middle East Children’s Alliance\, 1101 8th Street\, Berkeley\, CA\, 94710\, United States
ATTACH;FMTTYPE=image/jpeg:https://www.mecaforpeace.org/wp-content/uploads/2025/09/terms-of-servitude-Website.jpg
END:VEVENT
END:VCALENDAR