BEGIN:VCALENDAR
VERSION:2.0
PRODID:-//Middle East Children&#039;s Alliance - ECPv6.15.20//NONSGML v1.0//EN
CALSCALE:GREGORIAN
METHOD:PUBLISH
X-WR-CALNAME:Middle East Children&#039;s Alliance
X-ORIGINAL-URL:https://www.mecaforpeace.org
X-WR-CALDESC:Events for Middle East Children&#039;s Alliance
REFRESH-INTERVAL;VALUE=DURATION:PT1H
X-Robots-Tag:noindex
X-PUBLISHED-TTL:PT1H
BEGIN:VTIMEZONE
TZID:America/Los_Angeles
BEGIN:DAYLIGHT
TZOFFSETFROM:-0800
TZOFFSETTO:-0700
TZNAME:PDT
DTSTART:20240310T100000
END:DAYLIGHT
BEGIN:STANDARD
TZOFFSETFROM:-0700
TZOFFSETTO:-0800
TZNAME:PST
DTSTART:20241103T090000
END:STANDARD
BEGIN:DAYLIGHT
TZOFFSETFROM:-0800
TZOFFSETTO:-0700
TZNAME:PDT
DTSTART:20250309T100000
END:DAYLIGHT
BEGIN:STANDARD
TZOFFSETFROM:-0700
TZOFFSETTO:-0800
TZNAME:PST
DTSTART:20251102T090000
END:STANDARD
BEGIN:DAYLIGHT
TZOFFSETFROM:-0800
TZOFFSETTO:-0700
TZNAME:PDT
DTSTART:20260308T100000
END:DAYLIGHT
BEGIN:STANDARD
TZOFFSETFROM:-0700
TZOFFSETTO:-0800
TZNAME:PST
DTSTART:20261101T090000
END:STANDARD
END:VTIMEZONE
BEGIN:VEVENT
DTSTART;TZID=America/Los_Angeles:20250505T190000
DTEND;TZID=America/Los_Angeles:20250505T190000
DTSTAMP:20260422T130230
CREATED:20250411T214835Z
LAST-MODIFIED:20250411T214835Z
UID:22432-1746471600-1746471600@www.mecaforpeace.org
SUMMARY:New York City - Palestine: the Moral Issue of Our Time with Gabor Maté and Chris Hedges
DESCRIPTION:Palestine: the Moral Issue of Our Time with Gabor Maté and Chris Hedges\nDate: Monday\, May 5\, 2025\nTime: 7pm – 9pm\nLocation: Adler Hall\, NY Society for Ethical Culture\, 2 W 64th St\, New York 10023\nSolidarity Tickets: $55.20\nSupporter Tickets: $108.55\nOrder Tickets Here:\nMECAxNYC.eventbrite.com \nThe Middle East Children’s Alliance is coming to New York City on May 5th to welcome Gabor Maté and Chris Hedges in conversation on Palestine – the Moral Issue of our Time. Please join us at the New York Society for Ethical Culture for this important discussion and to meet some of our team in person. \nProceeds will support MECA’s emergency relief efforts in Gaza. \nFor more info email meca@mecaforpeace.org\, or call (510) 548-0542
URL:https://www.mecaforpeace.org/event/new-york-city-palestine-the-moral-issue-of-our-time-with-gabor-mate-and-chris-hedges/
LOCATION:New York Society for Ethical Culture\, 2 W 64th St\, New York\, NY\, 10023\, United States
ATTACH;FMTTYPE=image/jpeg:https://www.mecaforpeace.org/wp-content/uploads/2025/04/Untitled-design.jpg
END:VEVENT
END:VCALENDAR