BEGIN:VCALENDAR
VERSION:2.0
PRODID:-//Middle East Children&#039;s Alliance - ECPv6.15.20//NONSGML v1.0//EN
CALSCALE:GREGORIAN
METHOD:PUBLISH
X-ORIGINAL-URL:https://www.mecaforpeace.org
X-WR-CALDESC:Events for Middle East Children&#039;s Alliance
REFRESH-INTERVAL;VALUE=DURATION:PT1H
X-Robots-Tag:noindex
X-PUBLISHED-TTL:PT1H
BEGIN:VTIMEZONE
TZID:America/Los_Angeles
BEGIN:DAYLIGHT
TZOFFSETFROM:-0800
TZOFFSETTO:-0700
TZNAME:PDT
DTSTART:20240310T100000
END:DAYLIGHT
BEGIN:STANDARD
TZOFFSETFROM:-0700
TZOFFSETTO:-0800
TZNAME:PST
DTSTART:20241103T090000
END:STANDARD
BEGIN:DAYLIGHT
TZOFFSETFROM:-0800
TZOFFSETTO:-0700
TZNAME:PDT
DTSTART:20250309T100000
END:DAYLIGHT
BEGIN:STANDARD
TZOFFSETFROM:-0700
TZOFFSETTO:-0800
TZNAME:PST
DTSTART:20251102T090000
END:STANDARD
BEGIN:DAYLIGHT
TZOFFSETFROM:-0800
TZOFFSETTO:-0700
TZNAME:PDT
DTSTART:20260308T100000
END:DAYLIGHT
BEGIN:STANDARD
TZOFFSETFROM:-0700
TZOFFSETTO:-0800
TZNAME:PST
DTSTART:20261101T090000
END:STANDARD
END:VTIMEZONE
BEGIN:VEVENT
DTSTART;TZID=America/Los_Angeles:20250207T183000
DTEND;TZID=America/Los_Angeles:20250207T183000
DTSTAMP:20260422T135050
CREATED:20250125T004748Z
LAST-MODIFIED:20250129T225602Z
UID:22341-1738953000-1738953000@www.mecaforpeace.org
SUMMARY:BERKELEY\, CA: LIFE SUPPORT - A POETRY EVENT WITH KATHY ENGEL
DESCRIPTION:DATE: February 7\, 2025\nTIME: 6:30 pm PST\nLOCATION: Middle East Children’s Alliance\, 1101 8th Street\, Berkeley\, CA 94710\nTickets: $10 from Eventbrite\nPoet\, educator\, and activist\, Kathy Engel will read from her new book: Dear Inheritors and the anthology she co-edited with Kamal Boullata\, We Begin Here: Poems for Palestine and Lebanon. \nIntroduction by Aracelis Girmay\, poet\, children’s book writer\, educator\, editor. Her most recent book of poems is The Black Maria. \nArabic music by Palestinian musician\, Ibrahim Safi. \nKathy Engel’s books include Ruth’s Skirts\, 2007 and The Lost Brother Alphabet\, 2020. She is the founder of MADRE\, an international women’s human rights organization\, the former President and co-founder of Riptide Communications\, co-founder of East End Women in Black\, Poets for Ayiti\, among other groups. \nHer new book of poems and personal prose\, Dear Inheritors and We Begin Here: Poems for Palestine and Lebanon are available at ShopPalestine.org
URL:https://www.mecaforpeace.org/event/berkeley-ca-life-support-a-poetry-event-with-kathy-engel/
LOCATION:Middle East Children’s Alliance\, 1101 8th Street\, Berkeley\, CA\, 94710\, United States
ATTACH;FMTTYPE=image/png:https://www.mecaforpeace.org/wp-content/uploads/2025/01/WEBSITE-EVENTS-PAGE-IMAGE-TEMPLATE.png
END:VEVENT
END:VCALENDAR