BEGIN:VCALENDAR
VERSION:2.0
PRODID:-//Middle East Children&#039;s Alliance - ECPv6.15.20//NONSGML v1.0//EN
CALSCALE:GREGORIAN
METHOD:PUBLISH
X-WR-CALNAME:Middle East Children&#039;s Alliance
X-ORIGINAL-URL:https://www.mecaforpeace.org
X-WR-CALDESC:Events for Middle East Children&#039;s Alliance
REFRESH-INTERVAL;VALUE=DURATION:PT1H
X-Robots-Tag:noindex
X-PUBLISHED-TTL:PT1H
BEGIN:VTIMEZONE
TZID:UTC
BEGIN:STANDARD
TZOFFSETFROM:+0000
TZOFFSETTO:+0000
TZNAME:UTC
DTSTART:20170101T000000
END:STANDARD
END:VTIMEZONE
BEGIN:VEVENT
DTSTART;TZID=UTC:20180304T190000
DTEND;TZID=UTC:20180304T213000
DTSTAMP:20260422T081808
CREATED:20171230T043751Z
LAST-MODIFIED:20180222T180031Z
UID:18722-1520190000-1520199000@www.mecaforpeace.org
SUMMARY:SOLD OUT! Noam Chomsky "Whither Palestine?"
DESCRIPTION:SOLD OUT! Sorry – this event is completely sold out \nIn Celebration of our 30th Anniversary\nThe Middle East Children’s Alliance Presents\nA Special Evening With\nNOAM CHOMSKY\nSpeaking on “Whither Palestine?”\nSunday\, March 4\, 2018 – 7pm\nOakland Tech High School Auditorium\n4351 Broadway\, enter 42nd & Broadway \nFree Parking! Wheelchair Accessible \nFacebook event \nDOORS OPEN 6PM: seating first-come first-served for $20 and $40 ticket holders; center front section reserved for $100 ticket holders. \nAnd we’ll have PRE-SIGNED COPIES of 3 of Chomsky’s recent books available for purchase in the lobby: “Requiem for the American Dream\, The 10 Principles of Concentration of Wealth & Power\,” “Optimism Over Despair: On Capitalism\, Empire and Social Change\,” and “Global Discontents\, Conversations no the Rising Threats to Democracy” \nNOAM CHOMSKY is political theorist\, activist\, historian\, social critic\, and author of more than 100 books – and is internationally recognized as one of the most influential public intellectuals in the world. An unapologetic critic of US foreign policy\, mainstream media\, and capitalism\, Chomsky’s most recent book is “Requiem for the American Dream: The 10 Principles of Concentration of Wealth & Power.” \nProfessor Chomsky is also considered the founder of modern linguistics and is one of the most cited scholars in modern history. He currently teaches at the University of Arizona and is Professor Emeritus at the Massachusetts Institute of Technology \nSOLD OUT \nQuestions? 510-548-0542\, meca@mecaforpeace.org \nCurious about Chomsky’s position on Boycott\, Divestment and Sanctions? Read this post from Artists for Palestine \nRead “Noam Chomsky Diagnoses the Trump Era” in The Nation. \nCosponsored by KPFA\, Arab Resource & Organizing Center\, and Jewish Voice for Peace
URL:https://www.mecaforpeace.org/event/noam-chomsky-whither-palestine/
LOCATION:Oakland Tech High School Auditorium\, 42nd and Broadway\, Oakland\, CA\, 94609\, United States
ATTACH;FMTTYPE=image/jpeg:https://www.mecaforpeace.org/wp-content/uploads/2017/12/noam-for-email.jpg
END:VEVENT
END:VCALENDAR